BEGIN:VCALENDAR
VERSION:2.0
PRODID:-//Grundschule Haueneberstein - ECPv6.15.18//NONSGML v1.0//EN
CALSCALE:GREGORIAN
METHOD:PUBLISH
X-ORIGINAL-URL:https://gs-haueneberstein.de
X-WR-CALDESC:Veranstaltungen für Grundschule Haueneberstein
REFRESH-INTERVAL;VALUE=DURATION:PT1H
X-Robots-Tag:noindex
X-PUBLISHED-TTL:PT1H
BEGIN:VTIMEZONE
TZID:Europe/Berlin
BEGIN:DAYLIGHT
TZOFFSETFROM:+0100
TZOFFSETTO:+0200
TZNAME:CEST
DTSTART:20230326T010000
END:DAYLIGHT
BEGIN:STANDARD
TZOFFSETFROM:+0200
TZOFFSETTO:+0100
TZNAME:CET
DTSTART:20231029T010000
END:STANDARD
BEGIN:DAYLIGHT
TZOFFSETFROM:+0100
TZOFFSETTO:+0200
TZNAME:CEST
DTSTART:20240331T010000
END:DAYLIGHT
BEGIN:STANDARD
TZOFFSETFROM:+0200
TZOFFSETTO:+0100
TZNAME:CET
DTSTART:20241027T010000
END:STANDARD
BEGIN:DAYLIGHT
TZOFFSETFROM:+0100
TZOFFSETTO:+0200
TZNAME:CEST
DTSTART:20250330T010000
END:DAYLIGHT
BEGIN:STANDARD
TZOFFSETFROM:+0200
TZOFFSETTO:+0100
TZNAME:CET
DTSTART:20251026T010000
END:STANDARD
END:VTIMEZONE
BEGIN:VEVENT
DTSTART;VALUE=DATE:20241007
DTEND;VALUE=DATE:20241008
DTSTAMP:20260426T001947
CREATED:20240730T085526Z
LAST-MODIFIED:20240730T085526Z
UID:973-1728259200-1728345599@gs-haueneberstein.de
SUMMARY:Jugendverkehrsschule 1
DESCRIPTION:Klasse 4a und 4b
URL:https://gs-haueneberstein.de/termine/jugendverkehrsschule-1/
END:VEVENT
BEGIN:VEVENT
DTSTART;VALUE=DATE:20241011
DTEND;VALUE=DATE:20241012
DTSTAMP:20260426T001947
CREATED:20240730T085626Z
LAST-MODIFIED:20240730T085626Z
UID:976-1728604800-1728691199@gs-haueneberstein.de
SUMMARY:Jugendverkehrsschule 2
DESCRIPTION:Klasse 4a und 4b
URL:https://gs-haueneberstein.de/termine/jugendverkehrsschule-2/
END:VEVENT
BEGIN:VEVENT
DTSTART;VALUE=DATE:20241017
DTEND;VALUE=DATE:20241018
DTSTAMP:20260426T001947
CREATED:20240730T085755Z
LAST-MODIFIED:20240730T085755Z
UID:979-1729123200-1729209599@gs-haueneberstein.de
SUMMARY:Jugendverkehrsschule 3
DESCRIPTION:Klasse 4a und 4b
URL:https://gs-haueneberstein.de/termine/jugendverkehrsschule-3/
END:VEVENT
BEGIN:VEVENT
DTSTART;VALUE=DATE:20241021
DTEND;VALUE=DATE:20241022
DTSTAMP:20260426T001947
CREATED:20240730T085902Z
LAST-MODIFIED:20240730T085902Z
UID:982-1729468800-1729555199@gs-haueneberstein.de
SUMMARY:Jugendverkehrsschule 4
DESCRIPTION:Klasse 4a und 4b
URL:https://gs-haueneberstein.de/termine/jugendverkehrsschule-4/
END:VEVENT
END:VCALENDAR