BEGIN:VCALENDAR
VERSION:2.0
PRODID:-//Grundschule Haueneberstein - ECPv6.15.18//NONSGML v1.0//EN
CALSCALE:GREGORIAN
METHOD:PUBLISH
X-ORIGINAL-URL:https://gs-haueneberstein.de
X-WR-CALDESC:Veranstaltungen für Grundschule Haueneberstein
REFRESH-INTERVAL;VALUE=DURATION:PT1H
X-Robots-Tag:noindex
X-PUBLISHED-TTL:PT1H
BEGIN:VTIMEZONE
TZID:Europe/Berlin
BEGIN:DAYLIGHT
TZOFFSETFROM:+0100
TZOFFSETTO:+0200
TZNAME:CEST
DTSTART:20240331T010000
END:DAYLIGHT
BEGIN:STANDARD
TZOFFSETFROM:+0200
TZOFFSETTO:+0100
TZNAME:CET
DTSTART:20241027T010000
END:STANDARD
BEGIN:DAYLIGHT
TZOFFSETFROM:+0100
TZOFFSETTO:+0200
TZNAME:CEST
DTSTART:20250330T010000
END:DAYLIGHT
BEGIN:STANDARD
TZOFFSETFROM:+0200
TZOFFSETTO:+0100
TZNAME:CET
DTSTART:20251026T010000
END:STANDARD
BEGIN:DAYLIGHT
TZOFFSETFROM:+0100
TZOFFSETTO:+0200
TZNAME:CEST
DTSTART:20260329T010000
END:DAYLIGHT
BEGIN:STANDARD
TZOFFSETFROM:+0200
TZOFFSETTO:+0100
TZNAME:CET
DTSTART:20261025T010000
END:STANDARD
END:VTIMEZONE
BEGIN:VEVENT
DTSTART;VALUE=DATE:20250920
DTEND;VALUE=DATE:20250921
DTSTAMP:20260424T135908
CREATED:20250813T091422Z
LAST-MODIFIED:20250813T091422Z
UID:1365-1758326400-1758412799@gs-haueneberstein.de
SUMMARY:Einschulung
DESCRIPTION:09.45 Uhr ökumenischer Gottesdienst \n10.30 Uhr Einschulungsfeier in der Eberbachhalle + erste Schulstunde
URL:https://gs-haueneberstein.de/termine/einschulung/
CATEGORIES:Veranstaltung
END:VEVENT
BEGIN:VEVENT
DTSTART;VALUE=DATE:20250922
DTEND;VALUE=DATE:20250923
DTSTAMP:20260424T135908
CREATED:20250813T091235Z
LAST-MODIFIED:20250813T091235Z
UID:1363-1758499200-1758585599@gs-haueneberstein.de
SUMMARY:Fototermin Klasse 1
DESCRIPTION:
URL:https://gs-haueneberstein.de/termine/fototermin-klasse-1/
CATEGORIES:Veranstaltung
END:VEVENT
END:VCALENDAR